BEGIN:VCALENDAR
VERSION:2.0
PRODID: -//Q4 Inc.//EN
METHOD:PUBLISH
BEGIN:VTIMEZONE
TZID:America/New_York
X-LIC-LOCATION:America/New_York
BEGIN:DAYLIGHT
TZOFFSETFROM:-0500
TZOFFSETTO:-0400
TZNAME:EDT
DTSTART:19700308T020000
RRULE:FREQ=YEARLY;BYMONTH=3;BYDAY=2SU
END:DAYLIGHT
BEGIN:STANDARD
TZOFFSETFROM:-0400
TZOFFSETTO:-0500
TZNAME:EST
DTSTART:19701101T020000
RRULE:FREQ=YEARLY;BYMONTH=11;BYDAY=1SU
END:STANDARD
END:VTIMEZONE
BEGIN:VEVENT
ORGANIZER:MAILTO:investor.relations@enpro.com
DTSTART;TZID="America/New_York":20200506T080000
DTEND;TZID="America/New_York":20200506T120000
LOCATION:
UID:1c4d6470-ed31-46df-99ec-ac384b19bd97
DTSTAMP:20260422T123637
SUMMARY:Oppenheimer 15th Annual Virtual Industrial Growth Conference
DESCRIPTION: View More Information: https://www.enpro.com/for-investors/events-and-presentations/events/event-details/2020/Oppenheimer-15th-Annual-Virtual-Industrial-Growth-Conference/default.aspx
URL;VALUE=URI:https://www.enpro.com/for-investors/events-and-presentations/events/event-details/2020/Oppenheimer-15th-Annual-Virtual-Industrial-Growth-Conference/default.aspx
PRIORITY:5
CLASS:PUBLIC
END:VEVENT
END:VCALENDAR
